BEGIN:VCALENDAR
VERSION:2.0
PRODID:-//eventon.com NONSGML v1.0//EN
CALSCALE:GREGORIAN
METHOD:PUBLISH
BEGIN:VEVENT
UID:69e74f9c03104
DTSTAMP:20260421T102116Z
DTSTART:20241223T074500Z
DTEND:20241223T100000Z
LOCATION:De Reinevaer Reinevaarstraat 55\,  Tilburg
SUMMARY:Ouderkamer Voortgezet Onderwijs van 8.45 uur tot 11.00 uur
DESCRIPTION:\nhttps://www.dereinevaer.nl/events/ouderkamer-vo/var/ri-4.l-L1
URL:https://www.dereinevaer.nl/events/ouderkamer-vo/var/ri-4.l-L1
END:VEVENT
END:VCALENDAR