BEGIN:VCALENDAR
VERSION:2.0
PRODID:-//eventon.com NONSGML v1.0//EN
CALSCALE:GREGORIAN
METHOD:PUBLISH
BEGIN:VEVENT
UID:69eb8c216bf43
DTSTAMP:20260424T152833Z
DTSTART:20250108T093000Z
DTEND:20250108T103000Z
LOCATION:De Reinevaer Reinevaarstraat 55\,  Tilburg
SUMMARY:Wandelgroep "de Kruidenwandel" van 10.30 uur en 11.30 uur
DESCRIPTION:\nhttps://www.dereinevaer.nl/events/wandelgroep-de-kruidenwande
 l/var/ri-6.l-L1
URL:https://www.dereinevaer.nl/events/wandelgroep-de-kruidenwandel/var/ri-6.l-L1
END:VEVENT
END:VCALENDAR