BEGIN:VCALENDAR
VERSION:2.0
PRODID:-//eventon.com NONSGML v1.0//EN
CALSCALE:GREGORIAN
METHOD:PUBLISH
BEGIN:VEVENT
UID:69ea626cb9467
DTSTAMP:20260423T181820Z
DTSTART:20241125T083000Z
DTEND:20241125T113000Z
LOCATION:De Reinevaer Reinevaarstraat 55\,  Tilburg
SUMMARY:Koffie/Thee Ochtend van 9.30 uur tot 12.30 uur
DESCRIPTION:\nhttps://www.dereinevaer.nl/events/koffie-thee-ochtend-3/
URL:https://www.dereinevaer.nl/events/koffie-thee-ochtend-3/
END:VEVENT
END:VCALENDAR