BEGIN:VCALENDAR
VERSION:2.0
PRODID:-//eventon.com NONSGML v1.0//EN
CALSCALE:GREGORIAN
METHOD:PUBLISH
BEGIN:VEVENT
UID:69e5e5361961c
DTSTAMP:20260420T083502Z
DTSTART:20241212T083000Z
DTEND:20241212T113000Z
LOCATION:De Reinevaer Reinevaarstraat 55\,  Tilburg
SUMMARY:Koffie/Thee Ochtend van 9.30 uur tot 12.30 uur
DESCRIPTION:\nhttps://www.dereinevaer.nl/events/koffie-thee-ochtend-3/var/r
 i-15.l-L1
URL:https://www.dereinevaer.nl/events/koffie-thee-ochtend-3/var/ri-15.l-L1
END:VEVENT
END:VCALENDAR