BEGIN:VCALENDAR
VERSION:2.0
PRODID:-//eventon.com NONSGML v1.0//EN
CALSCALE:GREGORIAN
METHOD:PUBLISH
BEGIN:VEVENT
UID:69e66b3d7b64a
DTSTAMP:20260420T180653Z
DTSTART:20241125T120000Z
DTEND:20241125T150000Z
LOCATION:De Reinevaer Reinevaarstraat 55\,  Tilburg
SUMMARY:Klusgroep de Reinevaer 13.00 uur tot 16.00 uur
DESCRIPTION:\nhttps://www.dereinevaer.nl/events/klusgroep-de-reinevaer-13-0
 0-uur-tot-16-00-uur/
URL:https://www.dereinevaer.nl/events/klusgroep-de-reinevaer-13-00-uur-tot-16-00-uur/
END:VEVENT
END:VCALENDAR