BEGIN:VCALENDAR
VERSION:2.0
PRODID:-//eventon.com NONSGML v1.0//EN
CALSCALE:GREGORIAN
METHOD:PUBLISH
BEGIN:VEVENT
UID:69e6563a10adc
DTSTAMP:20260420T163714Z
DTSTART:20241230T120000Z
DTEND:20241230T150000Z
LOCATION:De Reinevaer Reinevaarstraat 55\,  Tilburg
SUMMARY:Klusgroep de Reinevaer 13.00 uur tot 16.00 uur
DESCRIPTION:\nhttps://www.dereinevaer.nl/events/klusgroep-de-reinevaer-13-0
 0-uur-tot-16-00-uur/var/ri-5.l-L1
URL:https://www.dereinevaer.nl/events/klusgroep-de-reinevaer-13-00-uur-tot-16-00-uur/var/ri-5.l-L1
END:VEVENT
END:VCALENDAR