BEGIN:VCALENDAR
VERSION:2.0
PRODID:-//eventon.com NONSGML v1.0//EN
CALSCALE:GREGORIAN
METHOD:PUBLISH
BEGIN:VEVENT
UID:69ed7aff79e5b
DTSTAMP:20260426T023959Z
DTSTART:20250106T120000Z
DTEND:20250106T150000Z
LOCATION:De Reinevaer Reinevaarstraat 55\,  Tilburg
SUMMARY:Klusgroep de Reinevaer 13.00 uur tot 16.00 uur
DESCRIPTION:\nhttps://www.dereinevaer.nl/events/klusgroep-de-reinevaer-13-0
 0-uur-tot-16-00-uur/var/ri-6.l-L1
URL:https://www.dereinevaer.nl/events/klusgroep-de-reinevaer-13-00-uur-tot-16-00-uur/var/ri-6.l-L1
END:VEVENT
END:VCALENDAR