BEGIN:VCALENDAR
VERSION:2.0
PRODID:-//eventon.com NONSGML v1.0//EN
CALSCALE:GREGORIAN
METHOD:PUBLISH
BEGIN:VEVENT
UID:69e7356a667b6
DTSTAMP:20260421T082930Z
DTSTART:20241212T080000Z
DTEND:20241212T090000Z
LOCATION:De Reinevaer Reinevaarstraat 55\,  Tilburg
SUMMARY:Gymclub Wandelbos van 9.00 tot 10.00
DESCRIPTION:\nhttps://www.dereinevaer.nl/events/gymclub-wandelbos-van-9-00-
 tot-10-00/var/ri-2.l-L1
URL:https://www.dereinevaer.nl/events/gymclub-wandelbos-van-9-00-tot-10-00/var/ri-2.l-L1
END:VEVENT
END:VCALENDAR