BEGIN:VCALENDAR
VERSION:2.0
PRODID:-//eventon.com NONSGML v1.0//EN
CALSCALE:GREGORIAN
METHOD:PUBLISH
BEGIN:VEVENT
UID:69e653c44e0c1
DTSTAMP:20260420T162644Z
DTSTART:20241127T080000Z
DTEND:20241127T100000Z
LOCATION:De Reinevaer Reinevaarstraat 55\,  Tilburg
SUMMARY:De Reinevaertjes van 9.00 tot 11.00 uur
DESCRIPTION:\nhttps://www.dereinevaer.nl/events/de-reinevaertjes-van-9-00-t
 ot-11-00-uur/
URL:https://www.dereinevaer.nl/events/de-reinevaertjes-van-9-00-tot-11-00-uur/
END:VEVENT
END:VCALENDAR