BEGIN:VCALENDAR
VERSION:2.0
PRODID:-//eventon.com NONSGML v1.0//EN
CALSCALE:GREGORIAN
METHOD:PUBLISH
BEGIN:VEVENT
UID:69ea471abeb59
DTSTAMP:20260423T162146Z
DTSTART:20241218T080000Z
DTEND:20241218T100000Z
LOCATION:De Reinevaer Reinevaarstraat 55\,  Tilburg
SUMMARY:De Reinevaertjes van 9.00 tot 11.00 uur
DESCRIPTION:\nhttps://www.dereinevaer.nl/events/de-reinevaertjes-van-9-00-t
 ot-11-00-uur/var/ri-3.l-L1
URL:https://www.dereinevaer.nl/events/de-reinevaertjes-van-9-00-tot-11-00-uur/var/ri-3.l-L1
END:VEVENT
END:VCALENDAR