BEGIN:VCALENDAR
VERSION:2.0
PRODID:-//eventon.com NONSGML v1.0//EN
CALSCALE:GREGORIAN
METHOD:PUBLISH
BEGIN:VEVENT
UID:69e64029b56a9
DTSTAMP:20260420T150305Z
DTSTART:20250122T080000Z
DTEND:20250122T100000Z
LOCATION:De Reinevaer Reinevaarstraat 55\,  Tilburg
SUMMARY:De Reinevaertjes van 9.00 tot 11.00 uur
DESCRIPTION:\nhttps://www.dereinevaer.nl/events/de-reinevaertjes-van-9-00-t
 ot-11-00-uur/var/ri-6.l-L1
URL:https://www.dereinevaer.nl/events/de-reinevaertjes-van-9-00-tot-11-00-uur/var/ri-6.l-L1
END:VEVENT
END:VCALENDAR