BEGIN:VCALENDAR
VERSION:2.0
PRODID:-//eventon.com NONSGML v1.0//EN
CALSCALE:GREGORIAN
METHOD:PUBLISH
BEGIN:VEVENT
UID:69eaf4ad02a7f
DTSTAMP:20260424T044221Z
DTSTART:20250113T110000Z
DTEND:20250113T120000Z
LOCATION:De Reinevaer Reinevaarstraat 55\,  Tilburg
SUMMARY:Iedere maandag tussen 12.00 en 13.00 uur De Buurtsoep
DESCRIPTION:\nhttps://www.dereinevaer.nl/events/iedere-maandag-tussen-12-00
 -en-13-00-uur-de-buurtsoep/var/ri-7.l-L1
URL:https://www.dereinevaer.nl/events/iedere-maandag-tussen-12-00-en-13-00-uur-de-buurtsoep/var/ri-7.l-L1
END:VEVENT
END:VCALENDAR