BEGIN:VCALENDAR
VERSION:2.0
PRODID:-//eventon.com NONSGML v1.0//EN
CALSCALE:GREGORIAN
METHOD:PUBLISH
BEGIN:VEVENT
UID:69e5e3739faa2
DTSTAMP:20260420T082731Z
DTSTART:20260418T090000Z
DTEND:20260418T140000Z
LOCATION:De Reinevaer Reinevaarstraat 55\,  Tilburg
SUMMARY:Gratis kleding markt
DESCRIPTION:neem een eigen tas mee.\nhttps://www.dereinevaer.nl/events/grat
 is-kleding-markt/
URL:https://www.dereinevaer.nl/events/gratis-kleding-markt/
END:VEVENT
END:VCALENDAR